Workbook

Sheet 2025년
A1: 80. 자산관리 현황(2025년)
I2: (단위 : 개, 원)
A3: 구분 | C3: 장부내역 | E3: 실사상태 | H3: 과부족
E4: 실사계 | F4: 활용 | G4: 불용대상 | H4: 초과 | I4: 부족
A5: 총계 | C5: 수 량 | D5: =SUM(D7,D9,D11,D13,D15,D21,D33,D47) -> 10070 | E5: =SUM(E7,E9,E11,E13,E15,E21,E33,E47) -> 10073 | F5: =SUM(F7,F9,F11,F13,F15,F21,F33,F47) -> 10073 | G5: =SUM(G7,G9,G11,G13,G15,G21,G33,G47) -> 0 | H5: =SUM(H7,H9,H11,H13,H15,H21,H33,H47) -> 6 | I5: =SUM(I7,I9,I11,I13,I15,I21,I33,I47) -> 3
C6: 금 액 | D6: =SUM(D8,D10,D12,D14,D16,D22,D34,D48) -> 11046169042 | E6: =SUM(E8,E10,E12,E14,E16,E22,E34,E48) -> 11048009042 | F6: =SUM(F8,F10,F12,F14,F16,F22,F34,F48) -> 11048009042 | G6: =SUM(G8,G10,G12,G14,G16,G22,G34,G48) -> 0 | H6: =SUM(H8,H10,H12,H14,H16,H22,H34,H48) -> 3635860 | I6: =SUM(I8,I10,I12,I14,I16,I22,I34,I48) -> 1795860
A7: 감사팀 | C7: 수 량 | D7: =[1]감사팀!$I$5 -> 24 | E7: =[1]감사팀!$J$5 -> 24 | F7: =[1]감사팀!$K$5 -> 24 | G7: =[1]감사팀!$P$5+[1]감사팀!$L$5 -> 0 | H7: =E7-D7 -> 0 | I7: -
C8: 금 액 | D8: =[1]감사팀!H$5 -> 15468950 | E8: =SUM(F8:G8) -> 15468950 | F8: =SUMIF([1]감사팀!$K:$K,">0",[1]감사팀!$H:$H)-D8 -> 15468950 | G8: =SUMIF([1]감사팀!$P$6:$P$1988,1,[1]감사팀!$H$6:$H$1988)+SUMIF([1]감사팀!$L$6:$L$1988,1,[1]감사팀!$H$6:$H$1988) -> 0 | H8: =E8-D8 -> 0 | I8: -
A9: 전략기획부 | C9: 수 량 | D9: =[1]전략기획부!$I$5 -> 55 | E9: =[1]전략기획부!$J$5 -> 55 | F9: =[1]전략기획부!$K$5 -> 55 | G9: =[1]전략기획부!$P$5+[1]전략기획부!$L$5 -> 0
C10: 금 액 | D10: =[1]전략기획부!H$5 -> 23277640 | E10: =SUM(F10:H10) -> 23277640 | F10: =SUMIF([1]전략기획부!$K:$K,">0",[1]전략기획부!$H:$H)-D10 -> 23277640 | G10: =SUMIF([1]전략기획부!$P$6:$P$1986,1,[1]전략기획부!$H$6:$H$1986)+SUMIF([1]전략기획부!$L$6:$L$1986,1,[1]전략기획부!$H$6:$H$1986) -> 0
A11: 경영관리부 | C11: 수 량 | D11: =[1]경영관리부!$I$5 -> 2919 | E11: =[1]경영관리부!$J$5 -> 2919 | F11: =[1]경영관리부!$K$5 -> 2919 | G11: =[1]경영관리부!$P$5+[1]경영관리부!$L$5 -> 0 | H11: =E11-D11 -> 0
C12: 금 액 | D12: =[1]경영관리부!H$5 -> 879817015 | E12: =SUM(F12:G12) -> 879817015 | F12: =SUMIF([1]경영관리부!$K:$K,">0",[1]경영관리부!$H:$H)-D12 -> 879817015 | G12: =SUMIF([1]경영관리부!$P$6:$P$1997,1,[1]경영관리부!$H$6:$H$1997)+SUMIF([1]경영관리부!$L$6:$L$1997,1,[1]경영관리부!$H$6:$H$1997) -> 0 | H12: =E12-D12 -> 0
A13: 고객지원부 | C13: 수 량 | D13: =[1]고객지원부!$I$5 -> 54 | E13: =[1]고객지원부!$J$5 -> 54 | F13: =[1]고객지원부!$K$5 -> 54 | G13: =[1]고객지원부!$P$5+[1]고객지원부!$L$5 -> 0 | I13: =IF(E13<D13,D13-E13,0) -> 0
C14: 금 액 | D14: =[1]고객지원부!H$5 -> 22848718 | E14: =SUM(F14:G14) -> 22848718 | F14: =SUMIF([1]고객지원부!$K:$K,">0",[1]고객지원부!$H:$H)-D14 -> 22848718 | G14: =SUMIF([1]고객지원부!$P$6:$P$1992,1,[1]고객지원부!$H$6:$H$1992)+SUMIF([1]고객지원부!$L$6:$L$1992,1,[1]고객지원부!$H$6:$H$1992) -> 0 | I14: =IF(E14<D14,D14-E14,0) -> 0
A15: 건강사업부1부 | B15: 소 계 | C15: 수 량 | D15: =SUM(D17,D19,) -> 3783 | E15: =SUM(E17,E19,) -> 3784 | F15: =SUM(F17,F19,) -> 3784 | G15: =SUM(G17,G19,) -> 0 | H15: =SUM(H17,H19,) -> 2 | I15: =SUM(I17,I19,) -> 1
C16: 금 액 | D16: =SUM(D18,D20) -> 4525358355 | E16: =SUM(E18,E20) -> 4526723015 | F16: =SUM(F18,F20) -> 4526723015 | G16: =SUM(G18,G20) -> 0 | H16: =SUM(H18,H20) -> 1580260 | I16: =SUM(I18,I20) -> 215600
B17: 올림픽기념국민생활관 | C17: 수 량 | D17: =[1]올림픽기념국민생활관!$I$5 -> 1819 | E17: =[1]올림픽기념국민생활관!$J$5 -> 1819 | F17: =[1]올림픽기념국민생활관!$K$5 -> 1819 | G17: =[1]올림픽기념국민생활관!$L$5+[1]올림픽기념국민생활관!$P$5 -> 0 | H17: =[1]올림픽기념국민생활관!Q5 -> 1 | I17: =[1]올림픽기념국민생활관!R5 -> 1
C18: 금 액 | D18: =[1]올림픽기념국민생활관!H5 -> 2294499866 | E18: =SUM(F18:G18) -> 2294574526 | F18: =SUMIF([1]올림픽기념국민생활관!$K:$K,">0",[1]올림픽기념국민생활관!$H:$H)-D18 -> 2294574526 | G18: =SUMIF([1]올림픽기념국민생활관!$P$6:$P$2024,1,[1]올림픽기념국민생활관!$H$6:$H$2024)+SUMIF([1]올림픽기념국민생활관!$L$6:$L$2024,1,[1]올림픽기념국민생활관!$H$6:$H$2024) -> 0 | H18: =SUMIF([1]올림픽기념국민생활관!Q6:Q1998,1,[1]올림픽기념국민생활관!H6:H1998) -> 290260 | I18: =SUMIF([1]올림픽기념국민생활관!R6:R1998,1,[1]올림픽기념국민생활관!H6:H1998) -> 215600
B19: 종로구민회관 | C19: 수 량 | D19: =[1]종로구민회관!$I$5 -> 1964 | E19: =[1]종로구민회관!$J$5 -> 1965 | F19: =[1]종로구민회관!$K$5 -> 1965 | G19: =[1]종로구민회관!$L$5+[1]종로구민회관!$P$5 -> 0 | H19: =[1]종로구민회관!Q5 -> 1 | I19: =[1]종로구민회관!R5 -> 0
C20: 금 액 | D20: =[1]종로구민회관!H$5 -> 2230858489 | E20: =SUM(F20:G20) -> 2232148489 | F20: =SUMIF([1]종로구민회관!$K:$K,">0",[1]종로구민회관!$H:$H)-D20 -> 2232148489 | G20: =SUMIF([1]종로구민회관!$P$6:$P$2013,1,[1]종로구민회관!$H$6:$H$2013)+SUMIF([1]종로구민회관!$L$6:$L$2013,1,[1]종로구민회관!$H$6:$H$2013) -> 0 | H20: =SUMIF([1]종로구민회관!Q6:Q2000,1,[1]종로구민회관!H6:H2000) -> 1290000 | I20: =SUMIF([1]종로구민회관!R6:R2000,1,[1]종로구민회관!H6:H2000) -> 0
A21: 건강사업부2부 | B21: 소 계 | C21: 수 량 | D21: =SUM(D23,D25,D27,D29,D31) -> 1763 | E21: =SUM(E23,E25,E27,E29,E31) -> 1765 | F21: =E21-G21 -> 1765 | G21: =SUM(G23,G25) -> 0 | H21: =H23+H25+H27+H29+H31 -> 4 | I21: =I23+I25+I27+I29+I31 -> 2
C22: 금 액 | D22: =SUM(D24,D26,D28,D30,D32) -> 2196628715 | E22: =SUM(E24,E26,E28,E30,E32) -> 2197104055 | F22: =E22-G22 -> 2197104055 | G22: =SUM(G24,G26) -> 0 | H22: =H24+H26+H28+H30+H32 -> 2055600 | I22: =I24+I26+I28+I30+I32 -> 1580260
B23: 종로문화체육센터 | C23: 수 량 | D23: =[1]종로문화체육센터!$I$5 -> 1381 | E23: =[1]종로문화체육센터!$J$5 -> 1380 | F23: =[1]종로문화체육센터!$K$5 -> 1380 | G23: =[1]종로문화체육센터!$P$5+[1]종로문화체육센터!$L$5 -> 0 | H23: =[1]종로문화체육센터!Q5 -> 0 | I23: =[1]종로문화체육센터!R5 -> 1
C24: 금 액 | D24: =[1]종로문화체육센터!H$5 -> 1773810730 | E24: =SUM(F24:G24) -> 1773520470 | F24: =SUMIF([1]종로문화체육센터!$K:$K,">0",[1]종로문화체육센터!$H:$H)-D24 -> 1773520470 | G24: =SUMIF([1]종로문화체육센터!$P$6:$P$1995,1,[1]종로문화체육센터!$H$6:$H$1995)+SUMIF([1]종로문화체육센터!$L$6:$L$1995,1,[1]종로문화체육센터!$H$6:$H$1995) -> 0 | H24: =SUMIF([1]종로문화체육센터!$Q$6:$Q$2000,1,[1]종로문화체육센터!$H$6:$H$2000) -> 0 | I24: =SUMIF([1]종로문화체육센터!$R$6:$R$2000,1,[1]종로문화체육센터!$H$6:$H$2000) -> 290260
B25: 와룡스포츠센터 | C25: 수 량 | D25: =[1]와룡스포츠센터!$I$5 -> 161 | E25: =[1]와룡스포츠센터!$J$5 -> 163 | F25: =[1]와룡스포츠센터!$K$5 -> 163 | G25: =[1]와룡스포츠센터!$L$5+[1]와룡스포츠센터!$P$5 -> 0 | H25: =E25-D25 -> 2 | I25: =IF(E25<D25,D25-E25,0) -> 0
C26: 금 액 | D26: =[1]와룡스포츠센터!H$5 -> 123991420 | E26: =SUM(F26:G26) -> 124907020 | F26: =SUMIF([1]와룡스포츠센터!$K:$K,">0",[1]와룡스포츠센터!$H:$H)-D26 -> 124907020 | G26: =SUMIF([1]와룡스포츠센터!$P$6:$P$1988,1,[1]와룡스포츠센터!$H$6:$H$1988)+SUMIF([1]와룡스포츠센터!$L$6:$L$1988,1,[1]와룡스포츠센터!$H$6:$H$1988) -> 0 | H26: =SUMIF([1]와룡스포츠센터!$Q$6:$Q$2000,1,[1]와룡스포츠센터!$H$6:$H$2000) -> 915600 | I26: =SUMIF([1]와룡스포츠센터!$R$6:$R$2000,1,[1]와룡스포츠센터!$H$6:$H$2000) -> 0
B27: 한강다목적운동장 | C27: 수 량 | D27: =[1]한강다목적운동장!$I$5 -> 7 | E27: =[1]한강다목적운동장!$J$5 -> 7 | F27: =[1]한강다목적운동장!$K$5 -> 7 | G27: =[1]한강다목적운동장!$L$5+[1]한강다목적운동장!$P$5 -> 0 | I27: =IF(E27<D27,D27-E27,0) -> 0
C28: 금 액 | D28: =[1]한강다목적운동장!H$5 -> 10282440 | E28: =SUM(F28:G28) -> 10282440 | F28: =SUMIF([1]한강다목적운동장!$K:$K,">0",[1]한강다목적운동장!$H:$H)-D28 -> 10282440 | G28: =SUMIF([1]한강다목적운동장!$P$6:$P$1988,1,[1]한강다목적운동장!$H$6:$H$1988)+SUMIF([1]한강다목적운동장!$L$6:$L$1988,1,[1]한강다목적운동장!$H$6:$H$1988) -> 0
B29: 동부여성문화센터 | C29: 수 량 | D29: =[1]동부여성문화센터!$I$5 -> 173 | E29: =[1]동부여성문화센터!$J$5 -> 174 | F29: =[1]동부여성문화센터!$K$5 -> 174 | G29: =[1]동부여성문화센터!$L$5+[1]동부여성문화센터!$P$5 -> 0 | H29: =[1]동부여성문화센터!Q5 -> 2 | I29: =[1]동부여성문화센터!R5 -> 1
C30: 금 액 | D30: =[1]동부여성문화센터!H$5 -> 253834750 | E30: =SUM(F30:G30) -> 253684750 | F30: =SUMIF([1]동부여성문화센터!$K:$K,">0",[1]동부여성문화센터!$H:$H)-D30 -> 253684750 | G30: =SUMIF([1]동부여성문화센터!$P$6:$P$1982,1,[1]동부여성문화센터!$H$6:$H$1982)+SUMIF([1]동부여성문화센터!$L$6:$L$1982,1,[1]동부여성문화센터!$H$6:$H$1982) -> 0 | H30: =SUMIF([1]동부여성문화센터!$Q$6:$Q$2000,1,[1]동부여성문화센터!$H$6:$H$2000) -> 1140000 | I30: =SUMIF([1]동부여성문화센터!$R$6:$R$2000,1,[1]동부여성문화센터!$H$6:$H$2000) -> 1290000
B31: 삼청테니스장 | C31: 수 량 | D31: =[1]삼청테니스장!$I$5 -> 41 | E31: =[1]삼청테니스장!$J$5 -> 41 | F31: =[1]삼청테니스장!$K$5 -> 41 | G31: =[1]삼청테니스장!$P$5+[1]삼청테니스장!$L$5 -> 0 | H31: 0 | I31: =IF(E31<D31,D31-E31,0) -> 0
C32: 금 액 | D32: =[1]삼청테니스장!H$5 -> 34709375 | E32: =SUM(F32:G32) -> 34709375 | F32: =SUMIF([1]삼청테니스장!$K:$K,">0",[1]삼청테니스장!$H:$H)-D32 -> 34709375 | G32: =SUMIF([1]삼청테니스장!$P$6:$P$1989,1,[1]삼청테니스장!$H$6:$H$1989)+SUMIF([1]삼청테니스장!$L$6:$L$1989,1,[1]삼청테니스장!$H$6:$H$1989) -> 0 | H32: 0 | I32: =IF(E32<D32,D32-E32,0) -> 0
A33: 시설관리부 | B33: 소 계 | C33: 수 량 | D33: =SUM(D35,D37,D39,D41,D45,D43) -> 130 | E33: =SUM(E35,E37,E39,E41,E45,E43) -> 130 | F33: =SUM(F35,F37,F39,F41,F45,F43) -> 130 | G33: =SUM(G35,G37,G39,G41,G45,G43) -> 0 | H33: =H35+H37+H39+H41+H43+H45 -> 0 | I33: =I35+I37+I39+I41+I43+I45 -> 0
C34: 금 액 | D34: =SUM(D36,D38,D40,D42,D46,D44) -> 92769391 | E34: =SUM(E36,E38,E40,E42,E46,E44) -> 92769391 | F34: =SUM(F36,F38,F40,F42,F46,F44) -> 92769391 | G34: =SUM(G36,G38,G40,G42,G46,G44) -> 0 | H34: =H36+H38+H40+H42+H44+H46 -> 0 | I34: =I36+I38+I40+I42+I44+I46 -> 0
B35: 동청사관리 | C35: 수 량 | D35: =[1]동청사관리!$I$5 -> 29 | E35: =[1]동청사관리!$J$5 -> 29 | F35: =[1]동청사관리!$K$5 -> 29 | G35: =[1]동청사관리!$P$5+[1]동청사관리!$L$5 -> 0 | H35: 0 | I35: 0
C36: 금 액 | D36: =[1]동청사관리!H$5 -> 31780231 | E36: =SUM(F36:G36) -> 31780231 | F36: =SUMIF([1]동청사관리!$K:$K,">0",[1]동청사관리!$H:$H)-D36 -> 31780231 | G36: =SUMIF([1]동청사관리!$P$6:$P$1988,1,[1]동청사관리!$H$6:$H$1988)+SUMIF([1]동청사관리!$L$6:$L$1988,1,[1]동청사관리!$H$6:$H$1988) -> 0 | H36: 0 | I36: 0
B37: 공유재산관리 | C37: 수 량 | D37: =[1]공유재산관리!$I$5 -> 71 | E37: =[1]공유재산관리!$J$5 -> 71 | F37: =[1]공유재산관리!$K$5 -> 71 | G37: =[1]공유재산관리!$P$5+[1]공유재산관리!$L$5 -> 0 | H37: 0 | I37: 0
C38: 금 액 | D38: =[1]공유재산관리!H$5 -> 39053110 | E38: =SUM(F38:G38) -> 39053110 | F38: =SUMIF([1]공유재산관리!$K:$K,">0",[1]공유재산관리!$H:$H)-D38 -> 39053110 | G38: =SUMIF([1]공유재산관리!$P$6:$P$1991,1,[1]공유재산관리!$H$6:$H$1991)+SUMIF([1]공유재산관리!$L$6:$L$1991,1,[1]공유재산관리!$H$6:$H$1991) -> 0 | H38: 0 | I38: 0
B39: 인사동관리 | C39: 수 량 | D39: =[1]인사동관리!$I$5 -> 21 | E39: =[1]인사동관리!$J$5 -> 21 | F39: =[1]인사동관리!$K$5 -> 21 | G39: =[1]인사동관리!$P$5+[1]인사동관리!$L$5 -> 0 | H39: 0 | I39: 0
C40: 금 액 | D40: =[1]인사동관리!H$5 -> 8745740 | E40: =SUM(F40:G40) -> 8745740 | F40: =SUMIF([1]인사동관리!$K:$K,">0",[1]인사동관리!$H:$H)-D40 -> 8745740 | G40: =SUMIF([1]인사동관리!$P$6:$P$1988,1,[1]인사동관리!$H$6:$H$1988)+SUMIF([1]인사동관리!$L$6:$L$1988,1,[1]인사동관리!$H$6:$H$1988) -> 0 | H40: 0 | I40: 0
...

Sheet 2024년
B1: 80. 자산관리 현황(2024년)
J2: (단위 : 개, 원)
B3: 구분 | D3: 장부내역 | F3: 실사상태 | I3: 과부족
F4: 실사계 | G4: 활용 | H4: 불용대상 | I4: 초과 | J4: 부족
B5: 총계 | D5: 수 량 | E5: =SUM(E7,E9,E11,E13,E15,E23,E29,E35,E49) -> 9950 | F5: =SUM(F7,F9,F11,F13,F15,F23,F29,F35,F49) -> 9951 | G5: =F5-H5 -> 9903 | H5: =SUM(H7,H9,H11,H13,H15,H23,H29,H35,H49) -> 48 | I5: =SUM(I7,I9,I11,I13,I15,I23,I29,I35,I49) -> 8 | J5: =SUM(J7,J9,J11,J13,J15,J23,J29,J35,J49) -> 7
D6: 금 액 | E6: =SUM(E8,E10,E12,E14,E16,E24,E30,E36,E50) -> 10735426214 | F6: =SUM(F8,F10,F12,F14,F16,F24,F30,F36,F50) -> 10736126214 | G6: =F6-H6 -> 10660470084 | H6: =SUM(H8,H10,H12,H14,H16,H24,H30,H36,H50) -> 75656130 | I6: =SUM(I8,I10,I12,I14,I16,I24,I30,I36,I50) -> 4492845 | J6: =SUM(J8,J10,J12,J14,J16,J24,J30,J36,J50) -> 3792845
B7: 감사팀 | D7: 수 량 | E7: 19 | F7: 20 | G7: 19 | H7: 1 | I7: 1 | J7: -
D8: 금 액 | E8: 10869190 | F8: 11463190 | G8: 7769360 | H8: 3693830 | I8: 594000 | J8: -
B9: 전략기획부 | D9: 수 량 | E9: 50 | F9: 50 | G9: 50 | H9: 0
D10: 금 액 | E10: 20374640 | F10: 20374640 | G10: 20374640 | H10: 0
B11: 경영관리부 | D11: 수 량 | E11: 2908 | F11: 2910 | G11: 2910 | H11: 0 | I11: 2
D12: 금 액 | E12: 894824975 | F12: 895798975 | G12: 895798975 | H12: 0 | I12: 974000
B13: 고객지원부 | D13: 수 량 | E13: 50 | F13: 46 | G13: 46 | H13: 0 | J13: 4
D14: 금 액 | E14: 20248718 | F14: 18023873 | G14: 18023873 | H14: 0 | J14: 2224845
B15: 건강사업부 | C15: 생환관팀 소계 | D15: 수 량 | E15: 1945 | F15: 1950 | G15: 1946 | H15: 4 | I15: 5 | J15: 0
D16: 금 액 | E16: 2306548117 | F16: 2309472962 | G16: 2307177248 | H16: 2295714 | I16: 2924845 | J16: 0
C17: 올림픽기념국민생활관 | D17: 수 량 | E17: 1777 | F17: 1781 | G17: 1777 | H17: 4 | I17: 4 | J17: 0
D18: 금 액 | E18: 2172274257 | F18: 2174499102 | G18: 2172203388 | H18: 2295714 | I18: 2224845
C19: 와룡스포츠센터 | D19: 수 량 | E19: 161 | F19: 162 | G19: 162 | H19: 0 | I19: 1 | J19: 0
D20: 금 액 | E20: 123991420 | F20: 124691420 | G20: 124691420 | H20: 0 | I20: 700000
C21: 한강다목적운동장 | D21: 수 량 | E21: 7 | F21: 7 | G21: 7 | H21: 0 | J21: 0
D22: 금 액 | E22: 10282440 | F22: 10282440 | G22: 10282440 | H22: 0
C23: 구민회관팀 소계 | D23: 수 량 | E23: 2116 | F23: 2115 | G23: 2079 | H23: 36 | I23: 0 | J23: 1
D24: 금 액 | E24: 2438349054 | F24: 2437862054 | G24: 2374059468 | H24: 63802586 | I24: 0 | J24: 487000
C25: 종로구민회관 | D25: 수 량 | E25: 1939 | F25: 1938 | G25: 1902 | H25: 36 | J25: 1
D26: 금 액 | E26: 2173808944 | F26: 2173321944 | G26: 2109519358 | H26: 63802586 | J26: 487000
C27: 동부여성문화센터 | D27: 수 량 | E27: 177 | F27: 177 | G27: 177 | H27: 0
D28: 금 액 | E28: 264540110 | F28: 264540110 | G28: 264540110 | H28: 0
C29: 문화체육센터팀 소계 | D29: 수 량 | E29: 1414 | F29: 1412 | G29: 1405 | H29: 7 | I29: 0 | J29: 2
D30: 금 액 | E30: 1789723711 | F30: 1788642711 | G30: 1782778711 | H30: 5864000 | I30: 0 | J30: 1081000
C31: 종로문화체육센터 | D31: 수 량 | E31: 1374 | F31: 1373 | G31: 1366 | H31: 7 | J31: 1
D32: 금 액 | E32: 1763014336 | F32: 1762527336 | G32: 1756663336 | H32: 5864000 | J32: 487000
C33: 삼청테니스장 | D33: 수 량 | E33: 40 | F33: 39 | G33: 39 | H33: 0 | J33: 1
D34: 금 액 | E34: 26709375 | F34: 26115375 | G34: 26115375 | H34: 0 | J34: 594000
B35: 시설관리부 | C35: 소 계 | D35: 수 량 | E35: 127 | F35: 127 | G35: 127 | H35: 0 | I35: 0 | J35: 0
D36: 금 액 | E36: 83369391 | F36: 83369391 | G36: 83369391 | H36: 0 | I36: 0 | J36: 0
C37: 동청사관리 | D37: 수 량 | E37: 29 | F37: 29 | G37: 29 | H37: 0
D38: 금 액 | E38: 31780231 | F38: 31780231 | G38: 31780231 | H38: 0
C39: 공유재산관리 | D39: 수 량 | E39: 68 | F39: 68 | G39: 68 | H39: 0
D40: 금 액 | E40: 29653110 | F40: 29653110 | G40: 29653110 | H40: 0
...

Sheet 2023년
B1: 77. 자산관리 현황(2023년)
J3: (단위:원)
B4: 구분 | D4: 장부내역 | F4: 실사상태 | I4: 과부족
F5: 실사 계 | G5: 활용 | H5: 불용대상 | I5: 초과 | J5: 부족
B6: 총계 | D6: 수 량 | E6: =SUM(E8,E10,E12,E14,E16,E24,E30,E36,E48) -> 7473 | F6: =SUM(F8,F10,F12,F14,F16,F24,F30,F36,F48) -> 7516 | G6: =F6-H6 -> 7426 | H6: =SUM(H8,H10,H12,H14,H16,H24,H30,H36,H48) -> 90 | I6: =SUM(I8,I10,I12,I14,I16,I24,I30,I36,I48) -> 43 | J6: =SUM(J8,J10,J12,J14,J16,J24,J30,J36,J48) -> 0 | L6: =SUM(E8,E10,E12,E14,E18,E20,E22,E26,E28,E32,E34,E38,E40,E42,E44,E46,E50,E52) -> 7473 | M6: =SUM(F8,F10,F12,F14,F18,F20,F22,F26,F28,F32,F34,F38,F40,F42,F44,F46,F50,F52) -> 7516 | N6: =SUM(G8,G10,G12,G14,G18,G20,G22,G26,G28,G32,G34,G38,G40,G42,G44,G46,G50,G52) -> 7426 | O6: =SUM(H8,H10,H12,H14,H18,H20,H22,H26,H28,H32,H34,H38,H40,H42,H44,H46,H50,H52) -> 90 | P6: =SUM(I8,I10,I12,I14,I18,I20,I22,I26,I28,I32,I34,I38,I40,I42,I44,I46,I50,I52) -> 43 | Q6: =SUM(J8,J10,J12,J14,J18,J20,J22,J26,J28,J32,J34,J38,J40,J42,J44,J46,J50,J52) -> 0
D7: 금 액 | E7: =SUM(E9,E11,E13,E15,E17,E25,E31,E37,E49) -> 9878040796 | F7: =SUM(F9,F11,F13,F15,F17,F25,F31,F37,F49) -> 10244278146 | G7: =F7-H7 -> 10177115094 | H7: =SUM(H9,H11,H13,H15,H17,H25,H31,H37,H49) -> 67163052 | I7: =SUM(I9,I11,I13,I15,I17,I25,I31,I37,I49) -> 366237350 | J7: =SUM(J9,J11,J13,J15,J17,J25,J31,J37,J49) -> 0 | L7: =SUM(E9,E11,E13,E15,E19,E21,E23,E27,E29,E33,E35,E39,E41,E43,E45,E47,E51,E53) -> 9878040796 | M7: =SUM(F9,F11,F13,F15,F19,F21,F23,F27,F29,F33,F35,F39,F41,F43,F45,F47,F51,F53) -> 10244278146 | N7: =SUM(G9,G11,G13,G15,G19,G21,G23,G27,G29,G33,G35,G39,G41,G43,G45,G47,G51,G53) -> 10177115094 | O7: =SUM(H9,H11,H13,H15,H19,H21,H23,H27,H29,H33,H35,H39,H41,H43,H45,H47,H51,H53) -> 67163052 | P7: =SUM(I9,I11,I13,I15,I19,I21,I23,I27,I29,I33,I35,I39,I41,I43,I45,I47,I51,I53) -> 366237350 | Q7: =SUM(J9,J11,J13,J15,J19,J21,J23,J27,J29,J33,J35,J39,J41,J43,J45,J47,J51,J53) -> 0
B8: 감사팀 | D8: 수 량 | E8: 19 | F8: 19 | G8: =F8-H8 -> 19 | I8: - | J8: -
D9: 금 액 | E9: 10869190 | F9: 10869190 | G9: =F9-H9 -> 10869190 | I9: - | J9: -
B10: 전략기획부 | D10: 수 량 | E10: 50 | F10: 50 | G10: =F10-H10 -> 50
D11: 금 액 | E11: 20374640 | F11: 20374640 | G11: =F11-H11 -> 20374640
B12: 경영관리부 | D12: 수 량 | E12: 232 | F12: 232 | G12: =F12-H12 -> 214 | H12: 18
D13: 금 액 | E13: 510842936 | F13: 510842936 | G13: =F13-H13 -> 489024975 | H13: 21817961
B14: 고객지원부 | D14: 수 량 | E14: 47 | F14: 47 | G14: =F14-H14 -> 47
D15: 금 액 | E15: 17018718 | F15: 17018718 | G15: =F15-H15 -> 17018718
B16: 건강사업부 | C16: 생환관팀 소계 | D16: 수 량 | E16: =SUM(E18,E20,E22) -> 1962 | F16: =SUM(F18,F20,F22) -> 1962 | G16: =F16-H16 -> 1935 | H16: =SUM(H18,H20,H22) -> 27
D17: 금 액 | E17: =SUM(E19,E21,E23) -> 2238395157 | F17: =SUM(F19,F21,F23) -> 2238395157 | G17: =F17-H17 -> 2233964737 | H17: =SUM(H19,H21,H23) -> 4430420
C18: 올림픽기념국민생활관 | D18: 수 량 | E18: 1790 | F18: 1790 | G18: =F18-H18 -> 1763 | H18: 27
D19: 금 액 | E19: 2106616297 | F19: 2106616297 | G19: =F19-H19 -> 2102185877 | H19: 4430420
C20: 와룡스포츠센터 | D20: 수 량 | E20: 165 | F20: 165 | G20: =F20-H20 -> 165
D21: 금 액 | E21: 121496420 | F21: 121496420 | G21: =F21-H21 -> 121496420
C22: 한강다목적운동장 | D22: 수 량 | E22: 7 | F22: 7 | G22: =F22-H22 -> 7
D23: 금 액 | E23: 10282440 | F23: 10282440 | G23: =F23-H23 -> 10282440
C24: 구민회관팀 소계 | D24: 수 량 | E24: =SUM(E26,E28) -> 2331 | F24: =SUM(F26,F28) -> 2331 | G24: =F24-H24 -> 2317 | H24: =SUM(H26,H28) -> 14
D25: 금 액 | E25: =SUM(E27,E29) -> 2372496895 | F25: =SUM(F27,F29) -> 2372496895 | G25: =F25-H25 -> 2360251984 | H25: =SUM(H27,H29) -> 12244911
C26: 종로구민회관 | D26: 수 량 | E26: 2157 | F26: 2157 | G26: =F26-H26 -> 2143 | H26: 14
D27: 금 액 | E27: 2110013165 | F27: 2110013165 | G27: =F27-H27 -> 2097768254 | H27: 12244911
C28: 동부여성문화센터 | D28: 수 량 | E28: 174 | F28: 174 | G28: =F28-H28 -> 174
D29: 금 액 | E29: 262483730 | F29: 262483730 | G29: =F29-H29 -> 262483730
C30: 소 계 | D30: 수 량 | E30: =SUM(E32,E34) -> 1419 | F30: =SUM(F32,F34) -> 1419 | G30: =F30-H30 -> 1392 | H30: =SUM(H32,H34) -> 27
D31: 금 액 | E31: =SUM(E33,E35) -> 1748711156 | F31: =SUM(F33,F35) -> 1748711156 | G31: =F31-H31 -> 1726370261 | H31: =SUM(H33,H35) -> 22340895
C32: 종로문화체육센터 | D32: 수 량 | E32: 1370 | F32: 1370 | G32: =F32-H32 -> 1352 | H32: 18
D33: 금 액 | E33: 1719956641 | F33: 1719956641 | G33: =F33-H33 -> 1699660886 | H33: 20295755
C34: 삼청테니스장 | D34: 수 량 | E34: 49 | F34: 49 | G34: =F34-H34 -> 40 | H34: 9
D35: 금 액 | E35: 28754515 | F35: 28754515 | G35: =F35-H35 -> 26709375 | H35: 2045140
B36: 시설관리부 | C36: 소 계 | D36: 수 량 | E36: =SUM(E38,E40,E42,E44,E46) -> 122 | F36: =SUM(F38,F40,F42,F44,F46) -> 122 | G36: =F36-H36 -> 121 | H36: =SUM(H38,H40,H42,H44,H46) -> 1
D37: 금 액 | E37: =SUM(E39,E41,E43,E45,E47) -> 80253301 | F37: =SUM(F39,F41,F43,F45,F47) -> 80253301 | G37: =F37-H37 -> 79813301 | H37: =SUM(H39,H41,H43,H45,H47) -> 440000
C38: 동청사관리 | D38: 수 량 | E38: 29 | F38: 29 | G38: =F38-H38 -> 29
D39: 금 액 | E39: 31780231 | F39: 31780231 | G39: =F39-H39 -> 31780231
C40: 공유재산 | D40: 수 량 | E40: 68 | F40: 68 | G40: =F40-H40 -> 68
D41: 금 액 | E41: 29653110 | F41: 29653110 | G41: =F41-H41 -> 29653110
...

Sheet 2022년
B1: 77. 자산관리 현황(2022년)
J3: (단위:원)
B4: 구 분 | D4: 장부내역 | F4: 실 사 상 태 | I4: 과 부 족
F5: 실사계 | G5: 활용 | H5: 불용대상 | I5: 초과 | J5: 부족
B6: 총 계 | D6: 수량 | E6: 6765 | F6: 6847 | G6: 6620 | H6: 227 | I6: 85 | J6: 3
D7: 금액 | E7: 8582937541 | F7: 8682468321 | G7: 8588908488 | H7: 93559833 | I7: 101027780 | J7: 1497000
B8: 기획감사실 | D8: 수량 | E8: 35 | F8: 35 | G8: 35 | H8: 0 | I8: 0 | J8: 0
D9: 금액 | E9: 13130880 | F9: 13130880 | G9: 13130880 | H9: 0 | I9: 0 | J9: 0
B10: 경영관리팀 | D10: 수량 | E10: 236 | F10: 237 | G10: 226 | H10: 11 | I10: 1 | J10: 0
D11: 금액 | E11: 494433274 | F11: 494632274 | G11: 491170399 | H11: 3461875 | I11: 199000 | J11: 0
B12: 생활관팀 | C12: 소 계 | D12: 수량 | E12: 1819 | F12: 1821 | G12: 1767 | H12: 54 | I12: 2 | J12: 0
D13: 금액 | E13: 1954668350 | F13: 1955966350 | G13: 1934267735 | H13: 21698615 | I13: 1298000 | J13: 0
C14: 올림픽기념국민생활관 | D14: 수량 | E14: 1812 | F14: 1814 | G14: 1760 | H14: 54 | I14: 2 | J14: 0
D15: 금액 | E15: 1944385910 | F15: 1945683910 | G15: 1923985295 | H15: 21698615 | I15: 1298000 | J15: 0
C16: 한강다목적운동장 | D16: 수량 | E16: 7 | F16: 7 | G16: 7 | H16: 0 | I16: 0 | J16: 0
D17: 금액 | E17: 10282440 | F17: 10282440 | G17: 10282440 | H17: 0 | I17: 0 | J17: 0
B18: 구민회관팀 | C18: 소계 | D18: 수량 | E18: 2315 | F18: 2396 | G18: 2324 | H18: 72 | I18: 82 | J18: 1
D19: 금액 | E19: 2154871248 | F19: 2253754028 | G19: 2233719593 | H19: 20034435 | I19: 99530780 | J19: 648000
C20: 종로구민회관 | D20: 수량 | E20: 2225 | F20: 2224 | G20: 2153 | H20: 71 | I20: 0 | J20: 1
D21: 금액 | E21: 1996244708 | F21: 1995596708 | G21: 1978194273 | H21: 17402435 | I21: 0 | J21: 648000
C22: 동부여성 문화센터 | D22: 수량 | E22: 90 | F22: 172 | G22: 171 | H22: 1 | I22: 82 | J22: 0
D23: 금액 | E23: 158626540 | F23: 258157320 | G23: 255525320 | H23: 2632000 | I23: 99530780 | J23: 0
B24: 문화체육센터팀 | C24: 소계 | D24: 수량 | E24: 1496 | F24: 1495 | G24: 1440 | H24: 55 | I24: 0 | J24: 1
D25: 금액 | E25: 1733775146 | F25: 1733125146 | G25: 1702576988 | H25: 30548158 | I25: 0 | J25: 650000
C26: 종로문화체육센터 | D26: 수량 | E26: 1421 | F26: 1420 | G26: 1365 | H26: 55 | I26: 0 | J26: 1
D27: 금액 | E27: 1712485131 | F27: 1711835131 | G27: 1681286973 | H27: 30548158 | I27: 0 | J27: 650000
C28: 삼청테니스장 | D28: 수량 | E28: 75 | F28: 75 | G28: 75 | H28: 0 | I28: 0 | J28: 0
D29: 금액 | E29: 21290015 | F29: 21290015 | G29: 21290015 | H29: 0 | I29: 0 | J29: 0
B30: 안전시설팀 | C30: 소계 | D30: 수량 | E30: 67 | F30: 67 | G30: 65 | H30: 2 | I30: 0 | J30: 0
D31: 금액 | E31: 40026778 | F31: 40026778 | G31: 39143438 | H31: 883340 | I31: 0 | J31: 0
C32: 동청사관리 | D32: 수량 | E32: 41 | F32: 41 | G32: 41 | H32: 0 | I32: 0 | J32: 0
D33: 금액 | E33: 28134028 | F33: 28134028 | G33: 28134028 | H33: 0 | I33: 0 | J33: 0
C34: 공원시설물 | D34: 수량 | E34: 1 | F34: 1 | G34: 1 | H34: 0 | I34: 0 | J34: 0
D35: 금액 | E35: 997570 | F35: 997570 | G35: 997570 | H35: 0 | I35: 0 | J35: 0
C36: 인사동문화지구 | D36: 수량 | E36: 25 | F36: 25 | G36: 23 | H36: 2 | I36: 0 | J36: 0
D37: 금액 | E37: 10895180 | F37: 10895180 | G37: 10011840 | H37: 883340 | I37: 0 | J37: 0
B38: 주차사업팀 | C38: 소계 | D38: 수량 | E38: 797 | F38: 796 | G38: 763 | H38: 33 | I38: 0 | J38: 1
D39: 금액 | E39: 2192031865 | F39: 2191832865 | G39: 2174899455 | H39: 16933410 | I39: 0 | J39: 199000
C40: 공영주차 | D40: 수량 | E40: 241 | F40: 241 | G40: 208 | H40: 33 | I40: 0 | J40: 0
D41: 금액 | E41: 340886760 | F41: 340886760 | G41: 323953350 | H41: 16933410 | I41: 0 | J41: 0
...

Sheet 2021년
B1: 77. 자산관리 현황(2021년)
J3: (단위:원)
B4: 구 분 | D4: 장부내역 | F4: 실 사 상 태 | I4: 과 부 족
F5: 실사계 | G5: 활용 | H5: 불용대상 | I5: 초과 | J5: 부족
B6: 총 계 | D6: 수량 | E6: 6653 | F6: 6653 | G6: 6580 | H6: 73 | I6: 0 | J6: 0
D7: 금액 | E7: 8137459878 | F7: 8137459878 | G7: 8074069336 | H7: 63390542 | I7: 0 | J7: 0
B8: 기획경영팀 | D8: 수량 | E8: 261 | F8: 261 | G8: 261 | H8: 0 | I8: 0 | J8: 0
D9: 금액 | E9: 454444264 | F9: 454444264 | G9: 454444264 | H9: 0 | I9: 0 | J9: 0
B10: 생활관팀 | C10: 소 계 | D10: 수량 | E10: 1781 | F10: 1781 | G10: 1768 | H10: 13 | I10: 0 | J10: 0
D11: 금액 | E11: 1943346176 | F11: 1943346176 | G11: 1934511070 | H11: 8835106 | I11: 0 | J11: 0
C12: 올림픽기념국민생활관 | D12: 수량 | E12: 1774 | F12: 1774 | G12: 1761 | H12: 13 | I12: 0 | J12: 0
D13: 금액 | E13: 1933063736 | F13: 1933063736 | G13: 1924228630 | H13: 8835106 | I13: 0 | J13: 0
C14: 한강다목적운동장 | D14: 수량 | E14: 7 | F14: 7 | G14: 7 | H14: 0 | I14: 0 | J14: 0
D15: 금액 | E15: 10282440 | F15: 10282440 | G15: 10282440 | H15: 0 | I15: 0 | J15: 0
B16: 구민회관팀 | C16: 소계 | D16: 수량 | E16: 2296 | F16: 2296 | G16: 2268 | H16: 28 | I16: 0 | J16: 0
D17: 금액 | E17: 2161338924 | F17: 2161338924 | G17: 2133588318 | H17: 27750606 | I17: 0 | J17: 0
C18: 종로구민회관 | D18: 수량 | E18: 2206 | F18: 2206 | G18: 2178 | H18: 28 | I18: 0 | J18: 0
D19: 금액 | E19: 2002712384 | F19: 2002712384 | G19: 1974961778 | H19: 27750606 | I19: 0 | J19: 0
C20: 동부여성 문화센터 | D20: 수량 | E20: 90 | F20: 90 | G20: 90 | H20: 0 | I20: 0 | J20: 0
D21: 금액 | E21: 158626540 | F21: 158626540 | G21: 158626540 | H21: 0 | I21: 0 | J21: 0
B22: 문화체육 센터팀 | C22: 소계 | D22: 수량 | E22: 1489 | F22: 1489 | G22: 1479 | H22: 10 | I22: 0 | J22: 0
D23: 금액 | E23: 1688179221 | F23: 1688179221 | G23: 1669330781 | H23: 18848440 | I23: 0 | J23: 0
C24: 종로문화체육센터 | D24: 수량 | E24: 1418 | F24: 1418 | G24: 1409 | H24: 9 | I24: 0 | J24: 0
D25: 금액 | E25: 1672531506 | F25: 1672531506 | G25: 1653948066 | H25: 18583440 | I25: 0 | J25: 0
C26: 삼청테니스장 | D26: 수량 | E26: 71 | F26: 71 | G26: 70 | H26: 1 | I26: 0 | J26: 0
D27: 금액 | E27: 15647715 | F27: 15647715 | G27: 15382715 | H27: 265000 | I27: 0 | J27: 0
B28: 안전시설팀 | C28: 소계 | D28: 수량 | E28: 81 | F28: 81 | G28: 65 | H28: 16 | I28: 0 | J28: 0
D29: 금액 | E29: 55457248 | F29: 55457248 | G29: 50812188 | H29: 4645060 | I29: 0 | J29: 0
C30: 동청사관리 | D30: 수량 | E30: 41 | F30: 41 | G30: 38 | H30: 3 | I30: 0 | J30: 0
D31: 금액 | E31: 29276498 | F31: 29276498 | G31: 26919438 | H31: 2357060 | I31: 0 | J31: 0
C32: 공원시설물 | D32: 수량 | E32: 2 | F32: 2 | G32: 2 | H32: 0 | I32: 0 | J32: 0
D33: 금액 | E33: 12997570 | F33: 12997570 | G33: 12997570 | H33: 0 | I33: 0 | J33: 0
C34: 인사동문화지구 | D34: 수량 | E34: 38 | F34: 38 | G34: 25 | H34: 13 | I34: 0 | J34: 0
D35: 금액 | E35: 13183180 | F35: 13183180 | G35: 10895180 | H35: 2288000 | I35: 0 | J35: 0
B36: 주차사업팀 | C36: 소계 | D36: 수량 | E36: 745 | F36: 745 | G36: 739 | H36: 6 | I36: 0 | J36: 0
D37: 금액 | E37: 1834694045 | F37: 1834694045 | G37: 1831382715 | H37: 3311330 | I37: 0 | J37: 0
C38: 공영주차 | D38: 수량 | E38: 235 | F38: 235 | G38: 231 | H38: 4 | I38: 0 | J38: 0
D39: 금액 | E39: 318862560 | F39: 318862560 | G39: 317841230 | H39: 1021330 | I39: 0 | J39: 0
C40: 거주자우선주차장 | D40: 수량 | E40: 510 | F40: 510 | G40: 508 | H40: 2 | I40: 0 | J40: 0
D41: 금액 | E41: 1515831485 | F41: 1515831485 | G41: 1513541485 | H41: 2290000 | I41: 0 | J41: 0

Sheet 2020년
B1: 77. 자산관리 현황(2020년)
J3: (단위:원)
B4: 구 분 | D4: 장부내역 | F4: 실 사 상 태 | I4: 과 부 족
F5: 실사계 | G5: 활용 | H5: 불용대상 | I5: 초과 | J5: 부족
B6: 총 계 | D6: 수량 | E6: 6726 | F6: 6726 | G6: 6523 | H6: 203 | I6: 0 | J6: 0
D7: 금액 | E7: 7601120052 | F7: 7601120052 | G7: 7406647759 | H7: 194472293 | I7: 0 | J7: 0
B8: 기획경영팀 | D8: 수량 | E8: 259 | F8: 259 | G8: 254 | H8: 5 | I8: 0 | J8: 0
D9: 금액 | E9: 442324797 | F9: 442324797 | G9: 439519067 | H9: 2805730 | I9: 0 | J9: 0
B10: 생활관팀 | C10: 소 계 | D10: 수량 | E10: 1828 | F10: 1828 | G10: 1776 | H10: 52 | I10: 0 | J10: 0
D11: 금액 | E11: 1883116004 | F11: 1883116004 | G11: 1853310599 | H11: 29805405 | I11: 0 | J11: 0
C12: 올림픽기념국민생활관 | D12: 수량 | E12: 1821 | F12: 1821 | G12: 1769 | H12: 52 | I12: 0 | J12: 0
D13: 금액 | E13: 1872833564 | F13: 1872833564 | G13: 1843028159 | H13: 29805405 | I13: 0 | J13: 0
C14: 한강다목적운동장 | D14: 수량 | E14: 7 | F14: 7 | G14: 7 | I14: 0 | J14: 0
D15: 금액 | E15: 10282440 | F15: 10282440 | G15: 10282440 | I15: 0 | J15: 0
B16: 구민회관팀 | C16: 소계 | D16: 수량 | E16: 2419 | F16: 2419 | G16: 2381 | H16: 38 | I16: 0 | J16: 0
D17: 금액 | E17: 2097875563 | F17: 2097875563 | G17: 2035829231 | H17: 62046332 | I17: 0 | J17: 0
C18: 종로구민회관 | D18: 수량 | E18: 2280 | F18: 2280 | G18: 2242 | H18: 38 | I18: 0 | J18: 0
D19: 금액 | E19: 1908386857 | F19: 1908386857 | G19: 1846340525 | H19: 62046332 | I19: 0 | J19: 0
C20: 동부여성 문화센터 | D20: 수량 | E20: 139 | F20: 139 | G20: 139 | I20: 0 | J20: 0
D21: 금액 | E21: 189488706 | F21: 189488706 | G21: 189488706 | I21: 0 | J21: 0
B22: 문화체육 센터팀 | C22: 소계 | D22: 수량 | E22: 1481 | F22: 1481 | G22: 1446 | H22: 35 | I22: 0 | J22: 0
D23: 금액 | E23: 1664080021 | F23: 1664080021 | G23: 1641746922 | H23: 22333099 | I23: 0 | J23: 0
C24: 종로문화체육센터 | D24: 수량 | E24: 1412 | F24: 1412 | G24: 1377 | H24: 35 | I24: 0 | J24: 0
D25: 금액 | E25: 1649307946 | F25: 1649307946 | G25: 1626974847 | H25: 22333099 | I25: 0 | J25: 0
C26: 삼청테니스장 | D26: 수량 | E26: 69 | F26: 69 | G26: 69 | I26: 0 | J26: 0
D27: 금액 | E27: 14772075 | F27: 14772075 | G27: 14772075 | I27: 0 | J27: 0
B28: 안전시설팀 | C28: 소계 | D28: 수량 | E28: 88 | F28: 88 | G28: 78 | H28: 10 | I28: 0 | J28: 0
D29: 금액 | E29: 58512878 | F29: 58512878 | G29: 54410148 | H29: 4102730 | I29: 0 | J29: 0
C30: 동청사관리 | D30: 수량 | E30: 45 | F30: 45 | G30: 40 | H30: 5 | I30: 0 | J30: 0
D31: 금액 | E31: 31608328 | F31: 31608328 | G31: 29206498 | H31: 2401830 | I31: 0 | J31: 0
C32: 공원시설물 | D32: 수량 | E32: 4 | F32: 4 | G32: 2 | H32: 2 | I32: 0 | J32: 0
D33: 금액 | E33: 13624090 | F33: 13624090 | G33: 12997570 | H33: 626520 | I33: 0 | J33: 0
C34: 인사동문화지구 | D34: 수량 | E34: 39 | F34: 39 | G34: 36 | H34: 3 | I34: 0 | J34: 0
D35: 금액 | E35: 13280460 | F35: 13280460 | G35: 12206080 | H35: 1074380 | I35: 0 | J35: 0
B36: 주차사업팀 | C36: 소계 | D36: 수량 | E36: 651 | F36: 651 | G36: 588 | H36: 63 | I36: 0 | J36: 0
D37: 금액 | E37: 1455210789 | F37: 1455210789 | G37: 1381831792 | H37: 73378997 | I37: 0 | J37: 0
C38: 공영주차 | D38: 수량 | E38: 242 | F38: 242 | G38: 191 | H38: 51 | I38: 0 | J38: 0
D39: 금액 | E39: 342343964 | F39: 342343964 | G39: 283648087 | H39: 58695877 | I39: 0 | J39: 0
C40: 거주자우선주차장 | D40: 수량 | E40: 409 | F40: 409 | G40: 397 | H40: 12 | I40: 0 | J40: 0
D41: 금액 | E41: 1112866825 | F41: 1112866825 | G41: 1098183705 | H41: 14683120 | I41: 0 | J41: 0
